BEGIN:VCALENDAR
VERSION:2.0
PRODID:-//Montgomery Preparatory Academy - ECPv5.16.4//NONSGML v1.0//EN
CALSCALE:GREGORIAN
METHOD:PUBLISH
X-WR-CALNAME:Montgomery Preparatory Academy
X-ORIGINAL-URL:https://montgomeryprep.org
X-WR-CALDESC:Events for Montgomery Preparatory Academy
BEGIN:VTIMEZONE
TZID:America/New_York
BEGIN:DAYLIGHT
TZOFFSETFROM:-0500
TZOFFSETTO:-0400
TZNAME:EDT
DTSTART:20260308T070000
END:DAYLIGHT
BEGIN:STANDARD
TZOFFSETFROM:-0400
TZOFFSETTO:-0500
TZNAME:EST
DTSTART:20261101T060000
END:STANDARD
END:VTIMEZONE
BEGIN:VEVENT
DTSTART;VALUE=DATE:20260907
DTEND;VALUE=DATE:20260908
DTSTAMP:20260420T090500
CREATED:20260417T161708Z
LAST-MODIFIED:20260417T161708Z
UID:11740-1788739200-1788825599@montgomeryprep.org
SUMMARY:Labor Day - School Closed
DESCRIPTION:
URL:https://montgomeryprep.org/event/labor-day-school-closed-2/
LOCATION:Montgomery Preparatory Academy\, 2745 S Smithville Rd\, Dayton\, OH\, 45420\, United States
CATEGORIES:Calendar Only
GEO:39.7269199;-84.1415179
X-APPLE-STRUCTURED-LOCATION;VALUE=URI;X-ADDRESS=Montgomery Preparatory Academy 2745 S Smithville Rd Dayton OH 45420 United States;X-APPLE-RADIUS=500;X-TITLE=2745 S Smithville Rd:geo:-84.1415179,39.7269199
END:VEVENT
END:VCALENDAR